BEGIN:VCALENDAR
VERSION:2.0
PRODID:-//wp-events-plugin.com//7.2.3.1//EN
BEGIN:VEVENT
UID:12@move.meco.lu
DTSTART:20160709T130000Z
DTEND:20160710T130000Z
DTSTAMP:20160608T123341Z
URL:https://move.meco.lu/events/atomreakter-oder-naturschutz-erhuelung/
SUMMARY:Atomreakter oder Naturschutz an Erhuelung
DESCRIPTION:De Konflikt ëm den Haff Réimech ganz no erliewen an zu Remere
 schen an der Jugendherberg iwwernuechten. Nieft engem Tour duerch déi vil
 lfälteg Natur\, wäerte mer an der Nuecht eng faszinéierend Fliedermausb
 esichtegung maachen an eis mat Zäitzeien ënnerhalen.
ATTACH;FMTTYPE=image/jpeg:https://move.meco.lu/wp-content/uploads/2016/06/
 remerschen.jpg
LOCATION:AJ Remerschen\, 31\, Wäistrooss\, Remerschen\, 5440\, Luxembourg
GEO:49.491543;6.352690
X-APPLE-STRUCTURED-LOCATION;VALUE=URI;X-ADDRESS=31\, Wäistrooss\, Remersch
 en\, 5440\, Luxembourg;X-APPLE-RADIUS=100;X-TITLE=AJ Remerschen:geo:49.491
 543,6.352690
END:VEVENT
END:VCALENDAR