BEGIN:VCALENDAR
VERSION:2.0
PRODID:-//wp-events-plugin.com//7.2.3.1//EN
BEGIN:VEVENT
UID:153@move.meco.lu
DTSTART:20201114T130000Z
DTEND:20201114T150000Z
DTSTAMP:20201109T104019Z
URL:https://move.meco.lu/events/excursioun-wei-geet-et-eise-bescher/
SUMMARY:Excursioun: Wéi geet et eise Bëscher?
DESCRIPTION:Du wollts schonn ëmmer wësse wéi et eise Bëscher geet? Wéi
  eng iwwerliewenswichteg Funktiounen eis Bëscher iwwerhuelen? Firwat et w
 ichteg ass eis Bëscher ze schützen? Doriwwer eraus interesséiert dech -
  wats du kanns maachen oder wéi eng Entscheedungen d’Politik misst huel
 e fir eis Bëscher ze schützen?\n\nDa komm zesumme mat anere Jonken um na
 tionalen Dag vum Bam op en Ausfluch! Zesumme mam Biolog Roger Schauls gi m
 er all dëse Froen no a ginn och gewuer wat de Klimawandel eigentlech fir 
 Auswierkungen op de Bësch huet a wéi eis Bëscher kënne méi resistent 
 ginn.\nWichteg Informatiounen\nOp Grond vun de begrenzte Plaze fir dësen 
 Ausflug ass et wichteg sech per Email (move@meco.lu) unzemellen.\n\nStart 
 ass Samschdes de 14.11.20 an der Stad um 14:00 Auer beim Centre Sportif Ba
 mbësch.\n\nDir kënnt entweder de Bus 275 huele vum Glacis bis op den Arr
 êt „Bambësch\, Centre Sportif“ oder et gëtt do och ee Parking fir d
 éi Léit\, déi mam Auto kommen.\n„Um Comptoir“ zum Thema Biodiversit
 éit hei nolauschteren: \nmove. hat schonn d'Freed de Roger Schauls als 
 Gaascht bei "Um Comptoir"\, dem Podcast vu move.\, ze hunn\, wou hie vill
  interessant Froen zum Thema Biodiversitéit beäntwert huet. Lauschter er
 an a looss dech begeeschtere vun dësem spannenden Thema.\n\nHei kanns du 
 dëst Gespréich nolauschteren:\n\n[embed]https://www.instagram.com/tv/CB5
 _oGxFwsp/[/embed]\n\n.
ATTACH;FMTTYPE=image/jpeg:https://move.meco.lu/wp-content/uploads/2020/10/
 Beschgestioun_2-scaled.jpg
LOCATION:Bambësch\, Cen. Sport.\, 18\, rue de Bridel\, Luxembourg\, Luxemb
 ourg
X-APPLE-STRUCTURED-LOCATION;VALUE=URI;X-ADDRESS=18\, rue de Bridel\, Luxemb
 ourg\, Luxembourg;X-APPLE-RADIUS=100;X-TITLE=Bambësch\, Cen. Sport.:geo:0
 ,0
END:VEVENT
END:VCALENDAR