BEGIN:VCALENDAR
VERSION:2.0
PRODID:-//wp-events-plugin.com//7.2.3.1//EN
BEGIN:VEVENT
UID:154@move.meco.lu
DTSTART:20201117T130000Z
DTEND:20201117T150000Z
DTSTAMP:20201118T153607Z
URL:https://move.meco.lu/events/klimakris-covid-19-wei-eng-roll-sollte-lyc
 eeen-an-der-zukunftsgestaltung-iwwerhuelen/
SUMMARY:Wéi eng Roll sollte Lycéeën an der Zukunftsgestaltung iwwerhuele
 n?
DESCRIPTION:De Mouvement Ecologique a move. lueden an op e Forum fir Schül
 er*innen\, Proffen\, sozioedukatiivt Personal\, Direktiounen\, Elteren an 
 aner interesséiert Leit aus dem Bildungsberäich\, déi eng Dynamik vun d
 er Zukunftsgestaltung an de Schoulen entwéckelen/stäerke wëllen.\n\nKl
 imakris – COVID-19... Wéi eng Roll sollte Lycéeën an der Zukunftsgest
 altung iwwerhuelen?\nWat seet d’Wëssenschaft?\n\nWat weisen Erfarunge v
 u positiven auslänneschen a Lëtzebuerger Beispiller?\n\n 	Wie sieht die
  Schule der Zukunft aus? Welche Chancen\, aber auch Herausforderungen\, ze
 ichnen sich ab?\n 	Welche konkreten Schritte können Sekundarschulen unte
 rnehmen um Raum für Diskussionen und Projekte rund um das Thema Zukunftsg
 estaltung zu schaffen? Welche Kompetenzen sollen in diesem Zusammenhang ge
 fördert werden?\n 	Welchen Beitrag können Schulen leisten\, um Jugendlic
 he zu motivieren\, sich aktiv in die Zukunftsgestaltung einzubringen?\n 	W
 ie werden sich das Lehren und Lernen verändern?\n 	Was erwarten Jugendlic
 he von Schulen\, die sie stärken / fördern um mit derartigen Situationen
  umzugehen?\n\nAnschließend an das Seminar besteht für jede Teilnehmer*i
 n noch die Möglichkeit sich gemeinsam bei einem gemütlichen Essen auszut
 auschen  (dies natürlich gemäß den geltenden COVID-Regeln).\nDënschde
 s\, de 17. November 2020 vu 14.00 – 16.00 Auer online via Zoom.\n\n\nRef
 erent ist Prof. Dr. Olaf-Axel Burow. Er war bis 2017 Professor für Allgem
 eine Erziehungswissenschaften an der Universität Kassel und beschäftigt 
 sich mit Kreativitäts- und Zukunftsforschung\, Personal-\, Schul- und Org
 anisationsentwicklung und Partizipationsdesign. Olaf-Axel Burow ist Autor 
 zahlreicher Bücher zur Zukunft des Lehrens und Lernens. Mit dem „Instit
 ute for Future Design“ berät er Bildungseinrichtungen und Unternehmen. 
 Er ist zudem Autor des kürzlich erschienen Buchs: „Future Fridays – W
 arum wir das Schulfach Zukunft brauchen“.\n---\n\nMéi Informatiounen zu
 m Inhalt &amp\; Oflaf (Flyer):\nMECO - Lycéeën als Zukunftsgestalter - A
 luedung an Ooflaf\n\n---\nTeilnahmebedingungen\, Good Practice &amp\; Anme
 ldung (bis spätestens den 10. November 2020)\nJede Schule kann eine Deleg
 ation von maximal 7 Teilnehmern*innen für dieses Seminar anmelden. (3-4 S
 chüler*innen und 2-3 Begleitpersonen). Jeder ist jedoch herzlich willkomm
 en und Einzelanmeldungen für Interessierte sind ebenfalls möglich.\n\nAn
 meldung oder weitere Fragen zum Seminar über Mail an cedric.metz@oeko.lu 
 oder telefonisch über 43 90 30 - 33.\n\nBitte teilen Sie bei der Anmeldun
 g ebenfalls mit\, ob Sie gerne ein nachhaltiges\, zukunftsfähiges Good-Pr
 actice Beispiel vorstellen möchten und ob Sie an dem auf die Veranstaltun
 g folgenden gemütlichen Austausch mit Essen und Getränken teilnehmen mö
 chten. Sollte sich die Situation ändern und ein physisches Treffen nicht 
 möglich sein\, wird das Forum in einem digitalen Format stattfinden.\nUpd
 ate:\nDer Mouvement Ecologique und move. haben entschieden\, dass eine Bil
 dungsveranstaltung mit physischer Präsenz\, die von einem dynamischen Aus
 tausch in Gruppen mit verschiedenen Zusammensetzungen lebt\, mit Masken\, 
 Sitzpflicht und 2 Metern Distanz nur schwer umsetzbar ist. \n\nDeshalb wer
 den wir auf ein digitales Format umschwenken. Voraussichtlich werden wir d
 ie Dauer des Events auch auf 2 Stunden begrenzen. Jeder Interessierte kann
  sich weiterhin über cedric.metz@oeko.lu anmelden und wird zeitnah über 
 alle Details informiert.\n\n&nbsp\;
ATTACH;FMTTYPE=image/jpeg:https://move.meco.lu/wp-content/uploads/2020/10/
 Zukunft-FOTO-PROMO-compementar-scaled.jpg
END:VEVENT
END:VCALENDAR