BEGIN:VCALENDAR
VERSION:2.0
PRODID:-//wp-events-plugin.com//7.2.3.1//EN
BEGIN:VEVENT
UID:69@move.meco.lu
DTSTART:20180630T130000Z
DTEND:20180630T160000Z
DTSTAMP:20180625T134810Z
URL:https://move.meco.lu/events/move-gaart-um-haff-a-sewen/
SUMMARY:move.Gaart um Haff a Sewen
DESCRIPTION:Du hues Bock ze léieren wéi a wat een am Gaart ka selwer ubau
 en an dat zesumme mat anere Jonken?
ATTACH;FMTTYPE=image/jpeg:https://move.meco.lu/wp-content/uploads/2018/01/
 20170709_163109-e1516875525381.jpg
LOCATION:Haff a Sewen\, Rue de Keispelt \, Meispelt\, Luxembourg
GEO:49.69206;6.060719999999947
X-APPLE-STRUCTURED-LOCATION;VALUE=URI;X-ADDRESS=Rue de Keispelt \, Meispelt
 \, Luxembourg;X-APPLE-RADIUS=100;X-TITLE=Haff a Sewen:geo:49.69206,6.06071
 9999999947
END:VEVENT
END:VCALENDAR