BEGIN:VCALENDAR
VERSION:2.0
PRODID:-//wp-events-plugin.com//7.2.3.1//EN
BEGIN:VEVENT
UID:156@move.meco.lu
DTSTART:20201105T163000Z
DTEND:20201105T180000Z
DTSTAMP:20201103T164432Z
URL:https://move.meco.lu/events/move-versammlung-open-meeting/
SUMMARY:move.Versammlung - Open Meeting
DESCRIPTION:D’move.Versammlung ass ee reegelméissege Meeting wou mir op 
 aktuellen Theme schaffen\, Aktivitéite plangen\, konkret Projeten ëmsetz
 en an dëst alles an enger entspaanter Atmosphäre.\n\nDu waars nach ni be
 i enger Versammlung? Dann komm einfach laanscht\, a léier nei Léit kenne
 n. Du brauchs och kee speziellt Virwëssen a kanns direkt deng Iddien an M
 eenungen anzebréngen.\nWat steet um Plang?\nDës Versammlung huet keen T
 hema\, dh mir halen se ganz bewosst thematesch oppen a schafen ee Raum 
 fir Diskussioun iwwert all Thema dat iech wichteg ass.\nDës Versammlung a
 ss am Oekozenter!!!\nWgl. dénk drun deng Mask matzebréngen\, an desinfiz
 éier dir beim Erankommen deng Hänn.\n\nD’Versammlung ass am grousse Sa
 ll (éischte Stack) ënnert den aktuelle sanitäre Moossnamen.
ATTACH;FMTTYPE=image/jpeg:https://move.meco.lu/wp-content/uploads/2016/02/
 3.jpg
LOCATION:Oekozenter\, 6\, rue Vauban\, Luxembourg\, 2663\, Luxembourg
GEO:49.6147923;6.133913399999983
X-APPLE-STRUCTURED-LOCATION;VALUE=URI;X-ADDRESS=6\, rue Vauban\, Luxembourg
 \, 2663\, Luxembourg;X-APPLE-RADIUS=100;X-TITLE=Oekozenter:geo:49.6147923,
 6.133913399999983
END:VEVENT
END:VCALENDAR