BEGIN:VCALENDAR
VERSION:2.0
PRODID:-//wp-events-plugin.com//7.2.3.1//EN
BEGIN:VEVENT
UID:157@move.meco.lu
DTSTART:20201112T163000Z
DTEND:20201112T180000Z
DTSTAMP:20201109T103935Z
URL:https://move.meco.lu/events/move-versammlung-schnitzeljuegd/
SUMMARY:move. Versammlung - Schnitzeljuegd
DESCRIPTION:D’move.Versammlung ass ee reegelméissege Meeting wou mir op 
 aktuellen Theme schaffen\, Aktivitéite plangen\, konkret Projeten ëmsetz
 en an dëst alles an enger entspaanter Atmosphäre.\n\nDu waars nach ni be
 i enger Versammlung? Dann komm einfach laanscht\, a léier nei Léit kenne
 n. Du brauchs och kee speziellt Virwëssen a kanns direkt deng Iddien an M
 eenungen anzebréngen.\nWat steet um Plang?\n\n 	An dëser Versammlung s
 chaffe mir un eiser geplangter Schnitzeljuegd zum Thema Landwirtschaft/Ies
 sen an de Kantinnen.\n\n 	Dofir wär et super wann s du dir ee Rätsel 
 ausdenks\, an dat mat an d'Versammlung bréngs fir dass mir méiglechst v
 ill Material hunn fir eng cool Schnitzeljuegd ze erstellen.\n 	Iwwerlee di
 r och gär 1-2 cool Platzen am Pafendall\, Clausen\, dem Grond oder der Al
 stad.\n\n\n\nDës Versammlung ass online via Zoom!!!\nMeeting ID: 369 987 
 7410\nMeeting PW: 0110001111\nMeeting Link: https://us02web.zoom.us/j/3699
 877410?pwd=Z3J5U0kweTBiWDk4NEpDVkpuU0ZNZz09\nDës Woch fënnt éis Versamm
 lung nees online statt. Dat ganzt mat Hëllef vun Trello &amp\; Zoom.\nBes
 uergt iech en Headset (Kopfhörer mat Micro drun).\nKuckt iech optimalerwe
 is virun der Versammlung un wéi Zoom funktionéiert\, fir dass mir wären
 d der Versammlung produktiv schaffen kënnen.
ATTACH;FMTTYPE=image/jpeg:https://move.meco.lu/wp-content/uploads/2020/11/
 schnitzel-scaled.jpg
END:VEVENT
END:VCALENDAR