BEGIN:VCALENDAR
VERSION:2.0
PRODID:-//wp-events-plugin.com//7.2.3.1//EN
BEGIN:VEVENT
UID:161@move.meco.lu
DTSTART:20201203T163000Z
DTEND:20201203T183000Z
DTSTAMP:20201201T104302Z
URL:https://move.meco.lu/events/move-versammlung-wat-esst-een-eigentlech-z
 u-kopenhagen/
SUMMARY:move.Versammlung - Wat ësst een eigentlech zu Kopenhagen?
DESCRIPTION:D’move.Versammlung ass ee reegelméissege Meeting wou mir op 
 aktuellen Theme schaffen\, Aktivitéite plangen\, konkret Projeten ëmsetz
 en an dëst alles an enger entspaanter Atmosphäre.\n\nDu waars nach ni be
 i enger Versammlung? Dann komm einfach laanscht\, a léier nei Léit kenne
 n. Du brauchs och kee speziellt Virwëssen a kanns direkt deng Iddien an M
 eenungen anzebréngen.\nWat steet um Plang?\nDe leschte Mëttwoch (25.11
 .) hate mir zesumme mat dem Mouvement Ecologique an de Jongbaueren ee 
 spannende Meeting mat der Expertin Line Rise Nielsen aus Kopenhagen zum Th
 ema "Iessen an de Kantinnen".\n\nHei si mir vill néits gewuer ginn a 
 konnten eis een Androck maachen op Kopenhagen ee Virbild kéint duerstel
 le fir Lëtzebuerg an wat mir vun hiren Erfarungen an hirem Succès lé
 iere kéinten.\n\nAn dëser Versammlung zéie mir ee Bilan an\, beäntwe
 rten oppe Froen a probéiere mat Hëllef vum Rapport ze entscheede wé
 i mir bei dësem Thema virukomme kënnen.\n\nDen Rapport fënns du héi: 
 https://trello.com/c/1W1bFtWM\nDës Versammlung ass am Oekozenter!!!\nWgl.
  dénk drun deng Mask matzebréngen\, an desinfizéier dir beim Erankommen
  deng Hänn.\n\nD’Versammlung ass am grousse Sall (éischte Stack) ënne
 rt den aktuelle sanitäre Moossnamen.
ATTACH;FMTTYPE=image/jpeg:https://move.meco.lu/wp-content/uploads/2020/12/
 cop1.jpeg
LOCATION:Oekozenter\, 6\, rue Vauban\, Luxembourg\, 2663\, Luxembourg
GEO:49.6147923;6.133913399999983
X-APPLE-STRUCTURED-LOCATION;VALUE=URI;X-ADDRESS=6\, rue Vauban\, Luxembourg
 \, 2663\, Luxembourg;X-APPLE-RADIUS=100;X-TITLE=Oekozenter:geo:49.6147923,
 6.133913399999983
END:VEVENT
END:VCALENDAR