BEGIN:VCALENDAR
VERSION:2.0
PRODID:-//wp-events-plugin.com//7.2.3.1//EN
BEGIN:VEVENT
UID:67@move.meco.lu
DTSTART:20180704T070000Z
DTEND:20180704T140000Z
DTSTAMP:20180611T131013Z
URL:https://move.meco.lu/events/visionare-forum-fur-schulerinnen/
SUMMARY:Visionäre - Forum für SchülerInnen
DESCRIPTION:Schneller\, besser\, größer!? Welche Alternativen für unsere
  Generation?
ATTACH;FMTTYPE=image/jpeg:https://move.meco.lu/wp-content/uploads/2018/05/
 30168107_1108588082614450_8051709440351564505_o.jpg
LOCATION:Oekozenter\, 6\, rue Vauban\, Luxembourg\, 2663\, Luxembourg
GEO:49.615654;6.133356
X-APPLE-STRUCTURED-LOCATION;VALUE=URI;X-ADDRESS=6\, rue Vauban\, Luxembourg
 \, 2663\, Luxembourg;X-APPLE-RADIUS=100;X-TITLE=Oekozenter:geo:49.615654,6
 .133356
END:VEVENT
END:VCALENDAR