BEGIN:VCALENDAR
VERSION:2.0
PRODID:-//wp-events-plugin.com//7.2.3.1//EN
BEGIN:VEVENT
UID:159@move.meco.lu
DTSTART:20201125T160000Z
DTEND:20201125T173000Z
DTSTAMP:20201118T153453Z
URL:https://move.meco.lu/events/zoom-copenhagen-a-model-for-luxembourg/
SUMMARY:Zoom: Copenhagen\, a model for Luxembourg?
DESCRIPTION:Wéi kënne mir d'Kantinnen zu Lëtzebuerg méi nohalteg gestal
 ten?\nAls Deel vun eisem Wee fir méi nohalteg Kantinne beschäftege mir
  eis och mat Modeller aus dem europäeschen Ausland\, vun deene mir och z
 u Lëtzebuerg eppes léiere kënnen.\n\nAn dësem Meeting mam Line Rise N
 ielsen aus Kopenhagen léiere mir wéi et zu Kopenhagen gepackt gouf inne
 rhalb vu just 7 Joer all ëffentlech Kantinnen op mindestens 75% Bio ëm
 zestellen.\n\nD'Line war als Executive Advisor Deel vum sougenannte 'Copen
 hagen House of Food'\, där Institutioun déi fir d'Ëmstelle vun allen Ka
 ntinne vun der Gemeng Kopenhagen (Schoulen\, Administratioun\, Altersheeme
 r) zoustänneg war an eng Quote vu mindestens 75% biologesche Produiten et
 abléiert huet. Méi dozou: https://speiseraeume.de/house-of-food-berlin-k
 openhagen/\n\nHat ass och Presidentin vum 'Copenhagen Foodshift Accelerato
 r'\, engem vun 9 regionale Standuerter vum europawäite Foodshift 2030 Pro
 jet deen d'Problemer vun eisem Liewensmëttelkonsum adresséiert a vun der
  EU finanzéiert gëtt.\n\nMéi dozou: https://foodshift2030.eu/\nOflaaf v
 um Meeting\n\n 	Short Introduction\n 	Presentation of the Copenhagen model
  by Line Rise Nielsen\n 	Q&amp\;A with Line Rise Nielsen\n\nZoom\nMeeting 
 ID: 369 987 7410\nMeeting PW: 0110001111\nMeeting Link: https://us02web.zo
 om.us/j/3699877410?pwd=Z3J5U0kweTBiWDk4NEpDVkpuU0ZNZz09\nDës Woch fënnt 
 éis Versammlung nees online statt. Dat ganzt mat Hëllef vun Trello &amp\
 ; Zoom.\nBesuergt iech en Headset (Kopfhörer mat Micro drun).
ATTACH;FMTTYPE=image/jpeg:https://move.meco.lu/wp-content/uploads/2020/11/
 1200px-Nyhavn_copenhagen.jpg
END:VEVENT
END:VCALENDAR