BEGIN:VCALENDAR
VERSION:2.0
PRODID:-//wp-events-plugin.com//7.2.3.1//EN
BEGIN:VEVENT
UID:41@move.meco.lu
DTSTART:20170520T130000Z
DTEND:20170520T160000Z
DTSTAMP:20170509T100404Z
URL:https://move.meco.lu/events/een-nometten-mam-mazin-qumsiyeh/
SUMMARY:Een Nomëtten mam Mazin Qumsiyeh
DESCRIPTION:Ween ass de Mazin a wat maache mer?
ATTACH;FMTTYPE=image/jpeg:https://move.meco.lu/wp-content/uploads/2017/05/
 Mazin.jpg
LOCATION:Haff a Sewen\, Rue de Keispelt \, Meispelt\, Luxembourg
GEO:49.69206;6.060719999999947
X-APPLE-STRUCTURED-LOCATION;VALUE=URI;X-ADDRESS=Rue de Keispelt \, Meispelt
 \, Luxembourg;X-APPLE-RADIUS=100;X-TITLE=Haff a Sewen:geo:49.69206,6.06071
 9999999947
END:VEVENT
END:VCALENDAR