BEGIN:VCALENDAR
VERSION:2.0
PRODID:-//wp-events-plugin.com//7.2.3.1//EN
BEGIN:VEVENT
UID:7@move.meco.lu
DTSTART:20160426T173000Z
DTEND:20160426T173000Z
DTSTAMP:20160413T070124Z
URL:https://move.meco.lu/events/fair-kachen/
SUMMARY:Fair kachen
DESCRIPTION:Du bist jung und am fairen Handel interessiert?\nDu willst erfa
 hren\, was eigentlich hinter deinen alltäglichen Mahlzeiten steckt und wa
 s es für Alternativen gibt?\nHier Kannst du es ausprobieren!\n\nZur nati
 onalen Kampagne „Lëtz Step to Fairtrade 2016“ laden Young Fairtrade u
 nd move. zum ersten gemeinsamen Kochabend ein.\n\nWas steht auf dem Speise
 plan? EIN FAIRTRADE VEGAN SPECIAL MENU!\n\nBei Interesse bitte per E-mail 
 anmelden: move@oeko.lu\n\nWir freuen uns auf euch!\n\nAnbei findest du d
 en Flyer vom Event: Fair Kachen\n\n&nbsp\;\n\n
ATTACH;FMTTYPE=image/jpeg:https://move.meco.lu/wp-content/uploads/2016/04/
 Kachen.jpg
LOCATION:Oekozenter\, 6\, rue Vauban\, Luxembourg\, 2663\, Luxembourg
GEO:49.615654;6.133356
X-APPLE-STRUCTURED-LOCATION;VALUE=URI;X-ADDRESS=6\, rue Vauban\, Luxembourg
 \, 2663\, Luxembourg;X-APPLE-RADIUS=100;X-TITLE=Oekozenter:geo:49.615654,6
 .133356
END:VEVENT
END:VCALENDAR