BEGIN:VCALENDAR
VERSION:2.0
PRODID:-//wp-events-plugin.com//7.2.3.1//EN
BEGIN:VEVENT
UID:10@move.meco.lu
DTSTART:20160625T140000Z
DTEND:20160625T160000Z
DTSTAMP:20160614T100505Z
URL:https://move.meco.lu/events/konsumkritesch-staatfeierung-fir-jonker/
SUMMARY:Konsumkritësch Stadféierung fir Jonker
DESCRIPTION:Du wëlls d’Staat eng Kéier mat aneren Ae gesinn? Du wëlls 
 gäre wëssen a wéi engem Geschäft deng Produiten op eng responsabel Aar
 t a Weis produzéiert ginn oder a wéi engem Restaurant’s de regional od
 er saisonal z’iesse kriss? 
ATTACH;FMTTYPE=image/jpeg:https://move.meco.lu/wp-content/uploads/2016/02/
 P1070352.jpg
LOCATION:Kiosk Place d'Armes\, Place d'Armes\, Luxembourg\, Luxembourg
GEO:49.61103319999999;6.129291500000022
X-APPLE-STRUCTURED-LOCATION;VALUE=URI;X-ADDRESS=Place d'Armes\, Luxembourg\
 , Luxembourg;X-APPLE-RADIUS=100;X-TITLE=Kiosk Place d'Armes:geo:49.6110331
 9999999,6.129291500000022
END:VEVENT
END:VCALENDAR