BEGIN:VCALENDAR
VERSION:2.0
PRODID:-//wp-events-plugin.com//7.2.3.1//EN
BEGIN:VEVENT
UID:17@move.meco.lu
DTSTART:20160923T130000Z
DTEND:20160925T170000Z
DTSTAMP:20160920T094724Z
URL:https://move.meco.lu/events/move-op-der-oekofoire/
SUMMARY:move. op der Oekofoire
DESCRIPTION:Léier déi Aktiv vu move. kennen! 
ATTACH;FMTTYPE=image/jpeg:https://move.meco.lu/wp-content/uploads/2016/09/
 oekofoire_3_2015_8943.jpg
LOCATION:Luxexpo Kirchberg\, 10 Circuit de La Foire Internationale\,  1347 
 Luxembourg\, Luxembourg
GEO:49.6360432;6.1729548000000705
X-APPLE-STRUCTURED-LOCATION;VALUE=URI;X-ADDRESS=10 Circuit de La Foire Inte
 rnationale\,  1347 Luxembourg\, Luxembourg;X-APPLE-RADIUS=100;X-TITLE=Luxe
 xpo Kirchberg:geo:49.6360432,6.1729548000000705
END:VEVENT
END:VCALENDAR