BEGIN:VCALENDAR
VERSION:2.0
PRODID:-//wp-events-plugin.com//7.2.3.1//EN
BEGIN:VEVENT
UID:14@move.meco.lu
DTSTART;VALUE=DATE:20160909
DTEND;VALUE=DATE:20160912
DTSTAMP:20160831T063827Z
URL:https://move.meco.lu/events/move-summercamp/
SUMMARY:move.Summercamp
DESCRIPTION:\n\nDe move. Summercamp ass fir jiddereen deen zesumme mat aner
 e Jonken eppes beweege well. Workshops\, Aktivitéiten dobaussen\, Diskus
 siounen\, zesumme kachen a Lagerfeier...Du hues Loscht? Mell dech nach spo
 ntan gratis un um move.Summercamp!\n\nProgramm\n\nFreides\n17h:Ukommen a k
 enneléieren\n18h: Workshop: Zesumme kënne mer eppes beweegen! Austausch 
 mat Pionéier aus der Ëmweltbeweegung.\n20h30: Kachen um Lagerfeier\n\nSa
 mschdes\n9h-10h: Wakresch ginn a Moiesiessen\n10h-12h : Strategieworkshop:
  Vun der Iddi zum Message. Wéi schafft een eng Positioun aus?\n12h-14h: Z
 esumme kachen ass einfach emol nice!\n14h-18h : D’Staat Lëtzebuerg mat 
 aneren Aen entdecken. Op der Sich nom Geschäft vun der Zukunft!\n19h–21
 h: Grillen emol anescht!\n21h30: Nuets-Quiz duerch d‘Staat\n\nSonndes\n9
 h-10h: Wakresch ginn a Moiesiessen\n10h-12h: Argumentatiounsworkshop: Widd
 erspriechen! Mä wéi ?\n12h-15h: Ofschloss Buffet a leschten Austausch\n\
 n&nbsp\;\n\n&nbsp\;\n\n&nbsp\;\n\n&nbsp\;\n\n&nbsp\;\n\n&nbsp\;\n\n&nbsp\;
 \n\n&nbsp\;\n\n&nbsp\;\n\n&nbsp\;\n\n&nbsp\;
ATTACH;FMTTYPE=image/jpeg:https://move.meco.lu/wp-content/uploads/2016/02/
 8-Aktivitäten.jpg
LOCATION:Chalet Géisserei\, 5\, rue Munchen-Tesch \, Luxembourg\, 2731\, L
 uxembourg
GEO:49.6287056;6.133204200000023
X-APPLE-STRUCTURED-LOCATION;VALUE=URI;X-ADDRESS=5\, rue Munchen-Tesch \, Lu
 xembourg\, 2731\, Luxembourg;X-APPLE-RADIUS=100;X-TITLE=Chalet Géisserei:
 geo:49.6287056,6.133204200000023
END:VEVENT
END:VCALENDAR