BEGIN:VCALENDAR
VERSION:2.0
PRODID:-//wp-events-plugin.com//7.2.3.1//EN
BEGIN:VEVENT
UID:162@move.meco.lu
DTSTART:20201210T163000Z
DTEND:20201210T180000Z
DTSTAMP:20201207T130416Z
URL:https://move.meco.lu/events/move-versammlung-2021-steet-virun-der-dir/
SUMMARY:move.Versammlung - 2021 steet virun der Dir!
DESCRIPTION:D’move.Versammlung ass ee reegelméissege Meeting wou mir op 
 aktuellen Theme schaffen\, Aktivitéite plangen\, konkret Projeten ëmsetz
 en an dëst alles an enger entspaanter Atmosphäre.\n\nDu waars nach ni be
 i enger Versammlung? Dann komm einfach laanscht\, a léier nei Léit kenne
 n. Du brauchs och kee speziellt Virwëssen a kanns direkt deng Iddien an M
 eenungen anzebréngen.\nWat steet um Plang?\n\n 	Planning éischt Hallsch
 ent 2021\n\n 	Wat wëlle mir am nächste Joer maachen?\n 	Wéi eng Themen\
 , wéi eng Projete sollen am Virdergrond stoen?\n\n\n 	Workshop fir an de 
 Schoulen\n\n 	move. gëtt esoubal d'Corona-Situatioun sech berouegt erëm 
 vill gefrot fir Workshops an de Schoulen ze maachen. Wéi kënne mir d'Erk
 enntnisser aus den Themen a Projete vun dësem Joer an engem Workshop vera
 arbechten?\n\n\n\nDës Versammlung ass online via Zoom!!!\nMeeting ID: 369
  987 7410\nMeeting PW: 0110001111\nMeeting Link: https://us02web.zoom.us/j
 /3699877410?pwd=Z3J5U0kweTBiWDk4NEpDVkpuU0ZNZz09\nDës Woch fënnt éis Ve
 rsammlung nees online statt. Dat ganzt mat Hëllef vun Trello &amp\; Zoom.
 \nBesuergt iech en Headset (Kopfhörer mat Micro drun).\nKuckt iech optima
 lerweis virun der Versammlung un wéi Zoom funktionéiert\, fir dass mir w
 ärend der Versammlung produktiv schaffen kënnen.
ATTACH;FMTTYPE=image/jpeg:https://move.meco.lu/wp-content/uploads/2020/12/
 2012.png
END:VEVENT
END:VCALENDAR