BEGIN:VCALENDAR
VERSION:2.0
PRODID:-//wp-events-plugin.com//7.2.3.1//EN
BEGIN:VEVENT
UID:70@move.meco.lu
DTSTART:20180705T163000Z
DTEND:20180705T183000Z
DTSTAMP:20180627T093427Z
URL:https://move.meco.lu/events/move-versammlung-28/
SUMMARY:move.Versammlung
DESCRIPTION:DU WELLS NEI LEIT KENNE LEIEREN AN HUES LOSCHT DECH ZE ENGAGEIE
 REN?
ATTACH;FMTTYPE=image/jpeg:https://move.meco.lu/wp-content/uploads/2017/11/
 oofschlossiessen.jpg
LOCATION:Oekozenter\, 6\, rue Vauban\, Luxembourg\, 2663\, Luxembourg
GEO:49.615654;6.133356
X-APPLE-STRUCTURED-LOCATION;VALUE=URI;X-ADDRESS=6\, rue Vauban\, Luxembourg
 \, 2663\, Luxembourg;X-APPLE-RADIUS=100;X-TITLE=Oekozenter:geo:49.615654,6
 .133356
END:VEVENT
END:VCALENDAR