BEGIN:VCALENDAR
VERSION:2.0
PRODID:-//wp-events-plugin.com//7.2.3.1//EN
BEGIN:VEVENT
UID:15@move.meco.lu
DTSTART:20160922T180000Z
DTEND:20160922T200000Z
DTSTAMP:20160912T083546Z
URL:https://move.meco.lu/events/move-versammlung-dei-1-no-der-vakanz/
SUMMARY:Move. Versammlung - déi 1. no der Vakanz
DESCRIPTION:Komm op déi 1. move. Versammlung no der Vakanz. Mir hu lauter 
 flott Projeten um Start fir Jiddereen deen eppes wëll beweegen! 
ATTACH;FMTTYPE=image/jpeg:https://move.meco.lu/wp-content/uploads/2016/09/
 Virbereedung-Move-Konsum-Atelier.jpg
LOCATION:Oekozenter\, 6\, rue Vauban\, Luxembourg\, 2663\, Luxembourg
GEO:49.615654;6.133356
X-APPLE-STRUCTURED-LOCATION;VALUE=URI;X-ADDRESS=6\, rue Vauban\, Luxembourg
 \, 2663\, Luxembourg;X-APPLE-RADIUS=100;X-TITLE=Oekozenter:geo:49.615654,6
 .133356
END:VEVENT
END:VCALENDAR