BEGIN:VCALENDAR
VERSION:2.0
PRODID:-//wp-events-plugin.com//7.2.3.1//EN
BEGIN:VEVENT
UID:195@move.meco.lu
DTSTART:20211007T163000Z
DTEND:20211007T180000Z
DTSTAMP:20210930T125045Z
URL:https://move.meco.lu/events/move-versammlung-moveapproved-goes-esch-2/
SUMMARY:move.Versammlung - moveapproved goes Esch (2/4)
DESCRIPTION:D’move.Versammlung ass ee reegelméissege Meeting wou mir op 
 aktuellen Theme schaffen\, Aktivitéite plangen\, konkret Projeten ëmsetz
 en an dëst alles an enger entspaanter Atmosphäre.\n\nDu waars nach ni be
 i enger Versammlung? Dann komm einfach laanscht\, a léier nei Léit kenne
 n. Du brauchs och kee speziellt Virwëssen a kanns direkt deng Iddien an M
 eenungen anzebréngen.\nWat steet um Plang?\nNodeems mir an der leschter 
 Versammlung de Projet moveapproved.lu am Escher Jugendhaus virgestallt hu
 nn a Jonker aus ganz Esch &amp\; Belval invitéiert hunn fir sech un dës
 em Update zu bedeelege schaffe mir an dëser Online-Versammlung eng Lët
 sch aus mat interessanten Adressen déi a Fro komme fir mam Update op d'K
 aart gesat ze ginn a sichen och schonn deelweis déi éischt Informatio
 unen zu dësen Adressen online eraus.\n\nAn der kommender Woch gi mir d
 a Freides de 15ten zesummen dës Adresse besichen an treffen dann d'En
 tscheedunge wéi eng Adressen et wierklech verdéngt hunn beim Update derb
 äi ze sinn an Deel vum éischte Lëtzebuerger Sustainbility-Onlineguide 
 ze ginn.\nDës Versammlung ass online via Zoom!!!\nMeeting ID: 369 987 741
 0\nMeeting PW: 0110001111\nMeeting Link: https://us02web.zoom.us/j/3699877
 410?pwd=Z3J5U0kweTBiWDk4NEpDVkpuU0ZNZz09\nDës Woch fënnt éis Versammlun
 g nees online statt. Dat ganzt mat Hëllef vun Trello &amp\; Zoom.\nBesuer
 gt iech en Headset (Kopfhörer mat Micro drun).\nKuckt iech optimalerweis 
 virun der Versammlung un wéi Zoom funktionéiert\, fir dass mir wärend d
 er Versammlung produktiv schaffen kënnen.
ATTACH;FMTTYPE=image/jpeg:https://move.meco.lu/wp-content/uploads/2021/06/
 banner.jpg
END:VEVENT
END:VCALENDAR