BEGIN:VCALENDAR
VERSION:2.0
PRODID:-//wp-events-plugin.com//7.2.3.1//EN
BEGIN:VEVENT
UID:9@move.meco.lu
DTSTART:20160525T170000Z
DTEND:20160525T190000Z
DTSTAMP:20160523T124500Z
URL:https://move.meco.lu/events/move-versammlungen-konsum-ttipceta-villes-
 mei/
SUMMARY:move.Versammlung - Konsum\, TTIP&CETA\, a villes méi
DESCRIPTION:\n\nOp dëser Versamlung plange mer en Event zum Konsum\, eng 
 move.approved Kaart fir Lëtzebuerg mat nohaltege Geschäfter\, Restaurant
 en a Café'en\, schwetzen iwwert TTIP&amp\;CETA a wéi et do weider geet\,
  an natierlech ka jiddereen seng egen Iddien mat rabréngen!\n\nDëst ass 
 d'Méiglechkeet fir interessant nei Jonker kennen ze léieren a fir sech i
 wwert dat auszetauschen wat eis beweegt.\n\nKommt lanscht!\n\nNächst move
 . Versammlungen am Oekozenter Pafendall\n\n25.5 um 18h -  Hei de Facebook
  Event\n7.6. um 18h\n28.6 um 18h\n\n\nP.S. Wanns de dech gär bei move. w
 ëlls engagéieren\, mat Aktivitéite plangen\, op aktuellen Theme schaffe
 n\, an 's de awer net genau weess wéi\, wat\, wou\, da schreif einfach de
 m Cédric e Mail op move@oeko.lu.
ATTACH;FMTTYPE=image/jpeg:https://move.meco.lu/wp-content/uploads/2016/05/
 Versammlung.jpg
LOCATION:Oekozenter\, 6\, rue Vauban\, Luxembourg\, 2663\, Luxembourg
GEO:49.615654;6.133356
X-APPLE-STRUCTURED-LOCATION;VALUE=URI;X-ADDRESS=6\, rue Vauban\, Luxembourg
 \, 2663\, Luxembourg;X-APPLE-RADIUS=100;X-TITLE=Oekozenter:geo:49.615654,6
 .133356
END:VEVENT
END:VCALENDAR