BEGIN:VCALENDAR
VERSION:2.0
PRODID:-//wp-events-plugin.com//7.2.3.1//EN
BEGIN:VEVENT
UID:8@move.meco.lu
DTSTART:20160424T160000Z
DTEND:20160424T160000Z
DTSTAMP:20160413T071409Z
URL:https://move.meco.lu/events/true-cost-filmowend/
SUMMARY:True Cost - Filmowend
DESCRIPTION:TRUE COST - FILMOWEND\n\nMir ginn an d'Geschäft a kafen eis Kl
 eeder. Ma amfong wësse mer all dat d'Aarbëschtkonditiounen vun den Farbi
 kmataarbëschterInnen a China oder Bangladesh oft ganz schlecht sinn - vum
  Loun net ze schwetzen. Den Dokumentarfilm True Cost\, beliicht net nëmme
 n d'Konditiounen an d'Funktionnéieren vun der Textilindustrie\, ma e weis
 t och datt mir als Konsumenten drop an derwidder bedru ginn.\n\nKomm laans
 cht a verbréng mat anere Jugendlechen e gemittlechen Owend. Zesumme kucke
  mer den Dokumentaire True Coast mat Kinosstëmmung. MIr loossen den Owend
  dann och mat engem gemeinsamen Iessen ausklengen. Dobäi kënne mer dann 
 och iwwert de Film diskutéieren.\n\nDëst Owesiessen wäert ënnert der F
 orm vun enger Auberge Espagnole ooflaafen. Jiddereen bréngt eppes vegetar
 ësches oder veganes z'Iesse\, sou datt mer e grousse Buffet zesummekreien
  wou jiddereen sech da kann dat huelen op dat e Loscht huet.\n\n
ATTACH;FMTTYPE=image/jpeg:https://move.meco.lu/wp-content/uploads/2016/04/
 thetruecost_cover.jpg
LOCATION:Oekozenter\, 6\, rue Vauban\, Luxembourg\, 2663\, Luxembourg
GEO:49.615654;6.133356
X-APPLE-STRUCTURED-LOCATION;VALUE=URI;X-ADDRESS=6\, rue Vauban\, Luxembourg
 \, 2663\, Luxembourg;X-APPLE-RADIUS=100;X-TITLE=Oekozenter:geo:49.615654,6
 .133356
END:VEVENT
END:VCALENDAR