BEGIN:VCALENDAR
VERSION:2.0
PRODID:-//wp-events-plugin.com//7.2.3.1//EN
BEGIN:VEVENT
UID:84@move.meco.lu
DTSTART:20190131T070000Z
DTEND:20190131T140000Z
DTSTAMP:20190108T150813Z
URL:https://move.meco.lu/events/visionare-ohne-plastik-auf-dem-weg-zu-eine
 r-zero-waste-gesellschaft-de-fr/
SUMMARY:Visionäre – Ohne Plastik auf dem Weg zu einer Zero-waste Gesells
 chaft?! (DE & FR)
DESCRIPTION:Visionnaires – Sans plastique vers une société zéro déche
 t?! 
ATTACH;FMTTYPE=image/jpeg:https://move.meco.lu/wp-content/uploads/2019/01/
 Zero-Waste-Crop.jpg
LOCATION:Sang a Klang\, rue des 3 glands\, Luxembourg\, 2663\, Luxembourg
X-APPLE-STRUCTURED-LOCATION;VALUE=URI;X-ADDRESS=rue des 3 glands\, Luxembou
 rg\, 2663\, Luxembourg;X-APPLE-RADIUS=100;X-TITLE=Sang a Klang:geo:0,0
END:VEVENT
END:VCALENDAR