BEGIN:VCALENDAR
VERSION:2.0
PRODID:-//wp-events-plugin.com//7.2.3.1//EN
BEGIN:VEVENT
UID:256@move.meco.lu
DTSTART;VALUE=DATE:20250911
DTEND;VALUE=DATE:20250915
DTSTAMP:20250617T143031Z
URL:https://move.meco.lu/events/zukunftshaff-2-editioun/
SUMMARY:Zukunftshaff  2. Editioun!
DESCRIPTION:Den Zukunftshaff ass ee Projet fir jonk Leit\, déi sech fir
  Klimagerechtegkeet\, Ëmwelt- an Déiereschutz an eng nohalteg Transitiou
 n am Ernährungssekteur interesséieren an emol op eng aner Aart a Weis w
 ëllen Erfarunge kréien.\n\nDéi éischt Editioun 2024 war fir déi jonk 
 Participanten eng super Erfarung\, an am Mee 2025 hu mir dunn de Jugendpr
 äis 2025 an der Kategorie “One for Science” gewonn. \nElo geet den Z
 ukunftshaff an eng nei Editioun 2025 - an du kanns mat dobäi sinn!\nWäre
 nd 3 Deeg verbréngs du deng Zäit op engem Bauerenhaff\, schaffs mat an e
 rliefs den Alldag op engem landwirtschaftleche Betrib. Zesumme schaffen he
 escht och\, datt een sech besser kenneléiert an d’Realitéit\, d’Äng
 schten an d’Visioune vun deenen anere verstoen a schätze léiert. Den Z
 ukunftshaff soll eng Plaz si fir Diskussiounen\, Froen an natierlech vill
  nei Erkenntnisser.\n\n 	Urees um Haff ass entweder Donneschdes Owes\, den
  11. September oder Freides Moies\, den 12. September an Ofrees Sonndes de
  14. September (am Formulaire kanns du deng Präferenz uginn).\n 	Du géi
 fs mat um Haff wunnen\, fir och wierklech dat richtegt Haffliewen matzekr
 éien an och eng Hand upaken ze kënnen. Vir Verpfleegung (Iessen\, Dusche
 n\, etc.) ass natierlech gesuergt.\n\nDu bass mindestens 16 Joer aal a wë
 lls den Zukunftshaff materliewen? Da fëll einfach dëse Formulaire aus. D
 'Umeldung geet nach bis den 10. August: https://docs.google.com/forms/d/e/
 1FAIpQLSclEEiHcUryJmuGyR_38sPr4t_PCoFferTE3sklyydxdIELkQ/viewform?usp=sf_l
 ink \n\nFalls du awer fir d’éischt nach Froen dozou hues\, dann zéck 
 net eis ze kontaktéieren\, entweder op move@oeko.lu oder vun Dënschdes 
 bis Freides (9h-17h) um 43 90 30 32 .\n\nKeng Alterslimite no uewen!\n\n\
 n\n&nbsp\;\n\nD’Iddi vum Zukunftshaff kënnt nämlech aus Däitschland
 \, wou den Hof mit Zukunft scho säit e puer Joer erfollegräich stattfë
 nnt. Hei de Link\, fir sech en Androck ze maachen: https://www.wir-haben-e
 s-satt.de/hof-mit-zukunft\n\nMei Infoen an Andréck vun eiser éischter Ed
 itioun 2024 fënns du hei: Dat war den éischten Zukunftshaff - Move\n\n&n
 bsp\;
ATTACH;FMTTYPE=image/jpeg:https://move.meco.lu/wp-content/uploads/2025/06/
 Copy-of-12.–15.-September-4.png
END:VEVENT
END:VCALENDAR